BEGIN:VCALENDAR
VERSION:2.0
PRODID:-//Capital 8 - ECPv6.10.1.1//NONSGML v1.0//EN
CALSCALE:GREGORIAN
METHOD:PUBLISH
X-WR-CALNAME:Capital 8
X-ORIGINAL-URL:https://capital8.paris/en/
X-WR-CALDESC:Events for Capital 8
REFRESH-INTERVAL;VALUE=DURATION:PT1H
X-Robots-Tag:noindex
X-PUBLISHED-TTL:PT1H
BEGIN:VTIMEZONE
TZID:Europe/Paris
BEGIN:DAYLIGHT
TZOFFSETFROM:+0100
TZOFFSETTO:+0200
TZNAME:CEST
DTSTART:20260329T010000
END:DAYLIGHT
BEGIN:STANDARD
TZOFFSETFROM:+0200
TZOFFSETTO:+0100
TZNAME:CET
DTSTART:20261025T010000
END:STANDARD
END:VTIMEZONE
BEGIN:VEVENT
DTSTART;TZID=Europe/Paris:20260423T120000
DTEND;TZID=Europe/Paris:20260423T140000
DTSTAMP:20260425T141628
CREATED:20260323T152704Z
LAST-MODIFIED:20260326T085133Z
UID:4137-1776945600-1776952800@capital8.paris
SUMMARY:Sustainable Transportation - Auto-repair Shop | My Vélo
DESCRIPTION:Thursday\, April 23 – Learn how to care for your bike with Guillaume\, manager of the My’Vélo shop at Capital 8. \nJoin a hands-on\, beginner-friendly workshop and explore the basics of bike maintenance: fixing flat tires\, adjusting brakes\, and general upkeep. A great opportunity to connect with a passionate expert who will tailor his advice to your riding needs. \nBook your slot between 12 PM and 2 PM
URL:https://capital8.paris/en/event/mobilite-douce-atelier-dauto-reparation-myvelo/
LOCATION:Boutique My Vélo
CATEGORIES:Sport,Atelier
ATTACH;FMTTYPE=image/png:https://capital8.paris/wp-content/uploads/2026/03/Capture-decran-2026-03-23-a-16.23.59.png
END:VEVENT
BEGIN:VEVENT
DTSTART;TZID=Europe/Paris:20260423T120000
DTEND;TZID=Europe/Paris:20260423T140000
DTSTAMP:20260425T141628
CREATED:20260324T083229Z
LAST-MODIFIED:20260324T083329Z
UID:4153-1776945600-1776952800@capital8.paris
SUMMARY:Escape to Normandy : No Train Ticket Required | Capital Market
DESCRIPTION:This month at Capital Market\, set sail for the Normandy Coast! \nDive into a seaside-inspired menu full of local flavors: fresh seafood\, artisanal cheeses\, and regional desserts—everything you need for a refreshing gourmet escape without leaving the office. \nEven better: with every full menu (starter + main + dessert + drink)\, you get a chance to win a getaway to the Normandy Coast! \nScan the QR code at the restaurant or go to food-deconnexion.fr to enter.Don’t forget to keep your receipt !
URL:https://capital8.paris/en/event/la-french-cote-voyage-en-normandie-capital-market/
LOCATION:Capital Market
CATEGORIES:Food
ATTACH;FMTTYPE=image/jpeg:https://capital8.paris/wp-content/uploads/2026/03/Co╠ete-Normande-AFF-ECRAN-2160x1080px.jpg
END:VEVENT
END:VCALENDAR