BEGIN:VCALENDAR
VERSION:2.0
PRODID:-//Capital 8 - ECPv6.10.1.1//NONSGML v1.0//EN
CALSCALE:GREGORIAN
METHOD:PUBLISH
X-WR-CALNAME:Capital 8
X-ORIGINAL-URL:https://capital8.paris
X-WR-CALDESC:Évènements pour Capital 8
REFRESH-INTERVAL;VALUE=DURATION:PT1H
X-Robots-Tag:noindex
X-PUBLISHED-TTL:PT1H
BEGIN:VTIMEZONE
TZID:Europe/Paris
BEGIN:DAYLIGHT
TZOFFSETFROM:+0100
TZOFFSETTO:+0200
TZNAME:CEST
DTSTART:20260329T010000
END:DAYLIGHT
BEGIN:STANDARD
TZOFFSETFROM:+0200
TZOFFSETTO:+0100
TZNAME:CET
DTSTART:20261025T010000
END:STANDARD
END:VTIMEZONE
BEGIN:VEVENT
DTSTART;TZID=Europe/Paris:20260423T120000
DTEND;TZID=Europe/Paris:20260423T140000
DTSTAMP:20260423T015423
CREATED:20260323T152704Z
LAST-MODIFIED:20260326T085143Z
UID:4132-1776945600-1776952800@capital8.paris
SUMMARY:Mobilité douce : Atelier d'Auto-réparation | My Vélo
DESCRIPTION:Jeudi 23 avril\, apprenez à entretenir votre vélo avec Guillaume\, responsable de la boutique My’Vélo à Capital 8. \nLors de cet atelier pratique et accessible à tous\, découvrez les gestes essentiels pour prendre soin de votre deux-roues : réparation des crevaisons\, réglage des freins\, entretien général… Le tout guidé par un expert passionné\, prêt à répondre à vos questions et à vous conseiller selon votre usage. \nRéservez votre créneau\, de 12h à 14h
URL:https://capital8.paris/event/mobilite-douce-atelier-dauto-reparation-myvelo/
LOCATION:Boutique My Vélo
CATEGORIES:Sport,Atelier
ATTACH;FMTTYPE=image/png:https://capital8.paris/wp-content/uploads/2026/03/Capture-decran-2026-03-23-a-16.23.59.png
END:VEVENT
BEGIN:VEVENT
DTSTART;TZID=Europe/Paris:20260423T120000
DTEND;TZID=Europe/Paris:20260423T140000
DTSTAMP:20260423T015423
CREATED:20260324T083229Z
LAST-MODIFIED:20260324T083229Z
UID:4148-1776945600-1776952800@capital8.paris
SUMMARY:La French Côte... Voyage en Normandie | Capital Market
DESCRIPTION:Ce mois-ci\, embarquez pour la Côte Normande à Capital Market ! \nAu programme\, une carte qui fleure bon les embruns et les grandes marées\, inspirée des spécialités de bord de mer : fruits de mer\, fromages affinés\, douceurs normandes… Un moment de déconnexion au goût d’évasion\, sans quitter votre bureau. \nEt ce n’est pas tout : pour tout menu complet (entrée + plat + dessert + boisson)\, tentez de gagner un séjour sur la Côte Normande ! \nScannez le QR code sur place ou rendez-vous sur food-deconnexion.fr pour participer. \nN’oubliez pas de conserver votre ticket de caisse.
URL:https://capital8.paris/event/la-french-cote-voyage-en-normandie-capital-market/
LOCATION:Capital Market
CATEGORIES:Food
ATTACH;FMTTYPE=image/jpeg:https://capital8.paris/wp-content/uploads/2026/03/Co╠ete-Normande-AFF-ECRAN-2160x1080px.jpg
END:VEVENT
END:VCALENDAR