BEGIN:VCALENDAR
VERSION:2.0
PRODID:-//Capital 8 - ECPv6.10.1.1//NONSGML v1.0//EN
CALSCALE:GREGORIAN
METHOD:PUBLISH
X-ORIGINAL-URL:https://capital8.paris
X-WR-CALDESC:Évènements pour Capital 8
REFRESH-INTERVAL;VALUE=DURATION:PT1H
X-Robots-Tag:noindex
X-PUBLISHED-TTL:PT1H
BEGIN:VTIMEZONE
TZID:Europe/Paris
BEGIN:DAYLIGHT
TZOFFSETFROM:+0100
TZOFFSETTO:+0200
TZNAME:CEST
DTSTART:20250330T010000
END:DAYLIGHT
BEGIN:STANDARD
TZOFFSETFROM:+0200
TZOFFSETTO:+0100
TZNAME:CET
DTSTART:20251026T010000
END:STANDARD
END:VTIMEZONE
BEGIN:VEVENT
DTSTART;TZID=Europe/Paris:20251118T190000
DTEND;TZID=Europe/Paris:20251118T213000
DTSTAMP:20260425T021100
CREATED:20251103T160846Z
LAST-MODIFIED:20251117T101941Z
UID:3492-1763492400-1763501400@capital8.paris
SUMMARY:LAB'FUGA : cours de cuisine avec la cheffe  Marie Pacotte
DESCRIPTION:Le tout premier atelier de cuisine signé FUGA dans son nouvel espace dédié ! \nRejoignez la cheffe Marie Pacotte\, candidate Top Chef 2024\, le 18 novembre à 19h pour un cours autour de la cuisine fleurie et automnale. Apprenez à préparer une entrée & un plat aux côtés de la cheffe. \n\nEntrée : Ravioles facon gyozas de gambas\, bouillon de têtes de gambas et coco\, huile pimentée maison\nPlat : Carbonara de courges spaghettis\, guanciale et crème d’oignons doux au poivre accompagné d’un verre de vin FUGA.\n\nProfitez d’une offre spéciale résidents Capital 8 : -15 € sur le tarif\, soit 60 € au lieu de 75 € avec le code CAPITAL8. \nLe Lab’ c’est le tout nouvel espace de FUGA dédié à la création et à la transmission culinaire. Pensé comme une cuisine ouverte\, c’est un lieu où l’on apprend en pratiquant\, où les chef·fe·s partagent leur savoir-faire à travers des masterclass\, ateliers et expériences gastronomiques.\n\nS’INSCRIRE
URL:https://capital8.paris/event/labfuga-cours-de-cuisine-avec-la-cheffe-marie-pacotte/
LOCATION:Le Lab’Fuga
ATTACH;FMTTYPE=image/jpeg:https://capital8.paris/wp-content/uploads/2025/11/marie-pop-up-sept-2024-scaled.jpg
END:VEVENT
END:VCALENDAR