BEGIN:VCALENDAR
VERSION:2.0
PRODID:-//Capital 8 - ECPv6.10.1.1//NONSGML v1.0//EN
CALSCALE:GREGORIAN
METHOD:PUBLISH
X-ORIGINAL-URL:https://capital8.paris
X-WR-CALDESC:Évènements pour Capital 8
REFRESH-INTERVAL;VALUE=DURATION:PT1H
X-Robots-Tag:noindex
X-PUBLISHED-TTL:PT1H
BEGIN:VTIMEZONE
TZID:Europe/Paris
BEGIN:DAYLIGHT
TZOFFSETFROM:+0100
TZOFFSETTO:+0200
TZNAME:CEST
DTSTART:20250330T010000
END:DAYLIGHT
BEGIN:STANDARD
TZOFFSETFROM:+0200
TZOFFSETTO:+0100
TZNAME:CET
DTSTART:20251026T010000
END:STANDARD
END:VTIMEZONE
BEGIN:VEVENT
DTSTART;TZID=Europe/Paris:20251206T193000
DTEND;TZID=Europe/Paris:20251206T220000
DTSTAMP:20260422T131500
CREATED:20251125T091728Z
LAST-MODIFIED:20251125T091728Z
UID:3563-1765049400-1765058400@capital8.paris
SUMMARY:Fuga Space | Concert Sofar Sounds
DESCRIPTION:Le FUGA Space vous accueille pour un événement musical en collaboration avec Sofar Sounds le samedi 6 décembre À 19h30 \nUne parenthèse hors du temps avec trois concerts surprises\, sélectionnés pour vous faire vivre un moment suspendu\, tout en proximité avec la musique. Pas de grande scène\, pas de distance : juste le talent brut\, les émotions\, et un public curieux prêt à se laisser embarquer. Bar sur place\, cocktails et boissons à la carte. \nRÉSERVER DES PLACES
URL:https://capital8.paris/event/fuga-space-concert-sofar-sounds/
LOCATION:Fuga Space\, 32 rue Monceau\, Paris\, France
CATEGORIES:Expérience
ATTACH;FMTTYPE=image/png:https://capital8.paris/wp-content/uploads/2025/11/Capture-decran-2025-11-17-a-17.31.44.png
END:VEVENT
END:VCALENDAR